{"text_format":"1","workbook":"xlsx","n_sheets":3,"sheets":["申込書","メンバー登録ファイル","ｽｺｱﾃﾞｰﾀ"],"not_rendered":{"charts":0,"images":0,"macros":1,"external_links":0,"defined_names":2,"comments":1,"pivot_tables":0},"unopened":[],"bounds":{"document_bytes":16777216,"sheet_cells":100000,"rows_first":2000,"rows_last":500,"rows_between":2000,"halvings":0,"cell_chars":16384,"cell_head_chars":4096},"cells_cut":0,"cells_raw":0,"read":"whole","date_system":"1900"}

{"sheet":"申込書","index":0,"n_rows":30,"n_cols":84,"rows_kept":30,"cut":false,"hidden":false,"merged":[[13,60,16,97],[12,71,12,74],[12,75,12,96],[10,71,10,74],[11,71,11,74],[10,75,10,78],[10,79,10,82],[11,75,11,78],[11,79,11,82],[12,43,12,50],[12,51,12,58],[10,60,10,63],[11,60,11,63],[10,64,10,65],[11,64,11,65],[10,66,10,70],[11,66,11,70],[10,11,11,17],[10,18,11,24],[10,30,11,38],[10,49,11,57],[10,40,11,48],[10,1,11,9],[12,11,12,26],[11,25,11,29],[10,25,10,29],[13,0,13,2],[13,3,13,5],[13,6,13,10],[13,27,13,29],[13,30,13,34],[13,35,13,42],[12,27,12,29],[12,30,12,34],[12,35,12,42],[12,0,12,2],[12,3,12,5],[12,6,12,10],[13,43,13,50],[13,51,13,58],[13,11,13,18],[13,19,13,26],[12,60,12,70],[14,51,14,58],[15,0,15,2],[15,3,15,5],[15,6,15,10],[15,11,15,18],[15,19,15,26],[15,27,15,29],[15,30,15,34],[15,35,15,42],[15,43,15,50],[15,51,15,58],[14,0,14,2],[14,3,14,5],[14,6,14,10],[14,11,14,18],[14,19,14,26],[14,27,14,29],[14,30,14,34],[14,35,14,42],[14,43,14,50],[16,51,16,58],[17,0,17,2],[17,3,17,5],[17,6,17,10],[17,11,17,18],[17,19,17,26],[17,27,17,29],[17,30,17,34],[17,35,17,42],[17,43,17,50],[17,51,17,58],[16,0,16,2],[16,3,16,5],[16,6,16,10],[16,11,16,18],[16,19,16,26],[16,27,16,29],[16,30,16,34],[16,35,16,42],[16,43,16,50],[18,51,18,58],[19,0,19,2],[19,3,19,5],[19,6,19,10],[19,11,19,18],[19,19,19,26],[19,27,19,29],[19,30,19,34],[19,35,19,42],[19,43,19,50],[19,51,19,58],[18,0,18,2],[18,3,18,5],[18,6,18,10],[18,11,18,18],[18,19,18,26],[18,27,18,29],[18,30,18,34],[18,35,18,42],[18,43,18,50],[20,51,20,58],[21,0,21,2],[21,3,21,5],[21,6,21,10],[21,11,21,18],[21,19,21,26],[21,27,21,29],[21,30,21,34],[21,35,21,42],[21,43,21,50],[21,51,21,58],[20,0,20,2],[20,3,20,5],[20,6,20,10],[20,11,20,18],[20,19,20,26],[20,27,20,29],[20,30,20,34],[20,35,20,42],[20,43,20,50],[22,51,22,58],[23,0,23,2],[23,3,23,5],[23,6,23,10],[23,11,23,18],[23,19,23,26],[23,27,23,29],[23,30,23,34],[23,35,23,42],[23,43,23,50],[23,51,23,58],[22,0,22,2],[22,3,22,5],[22,6,22,10],[22,11,22,18],[22,19,22,26],[22,27,22,29],[22,30,22,34],[22,35,22,42],[22,43,22,50],[27,30,27,34],[27,35,27,42],[27,43,27,50],[25,51,25,58],[24,0,24,2],[24,3,24,5],[24,6,24,10],[24,11,24,18],[24,19,24,26],[24,27,24,29],[24,30,24,34],[24,35,24,42],[24,43,24,50],[25,0,25,2],[25,3,25,5],[25,6,25,10],[25,11,25,18],[25,19,25,26],[25,27,25,29],[25,30,25,34],[25,35,25,42],[25,43,25,50],[24,51,24,58],[5,32,5,36],[8,11,9,17],[8,18,9,24],[8,25,8,29],[9,25,9,29],[27,51,27,58],[29,0,29,4],[29,5,29,58],[26,27,26,29],[26,30,26,34],[26,35,26,42],[26,43,26,50],[26,51,26,58],[27,0,27,2],[27,3,27,5],[27,6,27,10],[27,11,27,18],[27,19,27,26],[26,0,26,2],[26,3,26,5],[26,6,26,10],[26,11,26,18],[26,19,26,26],[27,27,27,29],[6,60,8,97],[9,66,9,70],[9,60,9,63],[9,75,9,78],[9,79,9,82],[9,64,9,65],[9,71,9,74],[9,83,11,97],[0,0,0,58],[2,0,2,58],[7,1,7,9],[7,11,7,28],[7,29,7,36],[7,37,7,43],[7,44,7,58],[9,54,9,58],[8,47,9,53],[8,40,9,46],[8,30,9,38],[8,1,9,9],[8,54,8,58],[5,53,5,57],[5,39,5,43],[5,46,5,50]]}
["令和３年度　岩手県高等学校新人大会"]
[]
["(4)　バスケットボール競技参加申込書"]
[]
[]
[null,null,null,null,null,null,null,null,null,null,null,null,null,null,null,null,null,null,null,null,null,null,null,null,null,null,null,null,null,null,null,null,"一部",null,null,null,null,null,null,"二部",null,null,null,null,null,null,"男子",null,null,null,null,null,null,"女子"]
[null,null,null,null,null,null,null,null,null,null,null,null,null,null,null,null,null,null,null,null,null,null,null,null,null,null,null,null,null,null,null,null,null,null,null,null,null,null,null,null,null,null,null,null,null,null,null,null,null,null,null,null,null,null,null,null,null,null,null,null,"↓ ベンチで指揮を執る可能性の高い順位は１～３となります\n　 また、コーチライセンス所持の際には必ずＩＤ(下３桁)を\n　 左の申込書に入力してください\n　　(スコアシートに印字されます)"]
[null,"学校名",null,null,null,null,null,null,null,null,null,null,null,null,null,null,null,null,null,null,null,null,null,null,null,null,null,null,null,"高等学校"]
[null,"監督",null,null,null,null,null,null,null,null,null,null,null,null,null,null,null,null,null,null,null,null,null,null,null,"license №",null,null,null,null,"コーチ",null,null,null,null,null,null,null,null,null,null,null,null,null,null,null,null,null,null,null,null,null,null,null,"license №"]
[null,null,null,null,null,null,null,null,null,null,null,null,null,null,null,null,null,null,null,null,null,null,null,null,null,null,null,null,null,null,null,null,null,null,null,null,null,null,null,null,null,null,null,null,null,null,null,null,null,null,null,null,null,null,null,null,null,null,null,null,"監　督",null,null,null,3,null,{"$f":"IF(BM10=\"\",\"\",IF(BM10=1,\"ヘッドコーチ\",IF(BM10=2,\"Ａコーチ\",\"\")))","v":""},null,null,null,null,{"$f":"IF(L9=\"\",\"\",L9)","v":""},null,null,null,{"$f":"IF(S9=\"\",\"\",S9)","v":""},null,null,null,{"$f":"IF(Z10=\"\",\"\",Z10)","v":""},null,null,null,"●スコアシートには、\n　コーチ・Ａコーチの２名\n　が印字されます"]
[null,"Ａコーチ",null,null,null,null,null,null,null,null,null,null,null,null,null,null,null,null,null,null,null,null,null,null,null,"license №",null,null,null,null,"マネージャー",null,null,null,null,null,null,null,null,null,null,null,null,null,null,null,null,null,null,null,null,null,null,null,null,null,null,null,null,null,"コーチ",null,null,null,1,null,{"$f":"IF(BM11=\"\",\"\",IF(BM11=1,\"ヘッドコーチ\",IF(BM11=2,\"Ａコーチ\",\"\")))","v":"ヘッドコーチ"},null,null,null,null,{"$f":"IF(AO9=\"\",\"\",AO9)","v":""},null,null,null,{"$f":"IF(AV9=\"\",\"\",AV9)","v":""},null,null,null,{"$f":"IF(BC10=\"\",\"\",BC10)","v":""}]
[null,null,null,null,null,null,null,null,null,null,null,null,null,null,null,null,null,null,null,null,null,null,null,null,null,null,null,null,null,null,null,null,null,null,null,null,null,null,null,null,null,null,null,null,null,null,null,null,null,null,null,null,null,null,null,null,null,null,null,null,"Ａコーチ",null,null,null,2,null,{"$f":"IF(BM12=\"\",\"\",IF(BM12=1,\"ヘッドコーチ\",IF(BM12=2,\"Ａコーチ\",\"\")))","v":"Ａコーチ"},null,null,null,null,{"$f":"IF(L11=\"\",\"\",L11)","v":""},null,null,null,{"$f":"IF(S11=\"\",\"\",S11)","v":""},null,null,null,{"$f":"IF(Z12=\"\",\"\",Z12)","v":""}]
["№",null,null,"背番号",null,null,"license\n№",null,null,null,null,"氏　　　　　名",null,null,null,null,null,null,null,null,null,null,null,null,null,null,null,"学年",null,null,"身長",null,null,null,null,"生年月日",null,null,null,null,null,null,null,"出身中学",null,null,null,null,null,null,null,"備考\n(主将は１\nを入力)",null,null,null,null,null,null,null,null,"TO主任担当顧問名",null,null,null,null,null,null,null,null,null,null,"→"]
[1,null,null,null,null,null,null,null,null,null,null,null,null,null,null,null,null,null,null,null,null,null,null,null,null,null,null,null,null,null,null,null,null,null,null,null,null,null,null,null,null,null,null,null,null,null,null,null,null,null,null,null,null,null,null,null,null,null,null,null,"コーチライセンスが無い場合は、\nその旨を下記の担当者に必ず連絡お願いいたします。\n\n【担当者】\n専門部競技委員長　大船渡東高校　内舘　佑太\n※申込書の提出先と同じ先生です"]
[2]
[3]
[4]
[5]
[6]
[7]
[8]
[9]
[10]
[11]
[12]
[13]
[14]
[15]
[]
["目　標"]

{"sheet":"メンバー登録ファイル","index":1,"n_rows":34,"n_cols":18,"rows_kept":34,"cut":false,"hidden":false,"merged":[[19,0,19,1],[19,2,19,3],[19,4,19,5],[19,6,19,7],[21,1,33,7],[23,0,33,0],[4,1,16,7],[6,0,16,0],[12,9,12,11],[17,8,17,18],[18,9,18,11],[17,0,18,4],[17,5,18,7],[0,0,1,7],[0,8,0,18],[1,9,1,11],[2,0,2,1],[2,2,2,3],[2,4,2,5],[2,6,2,7]]}
["記入例　　　チーム名",null,null,null,null,null,null,null,"選　　　　　　　　　　手"]
[null,null,null,null,null,null,null,null,null,"氏　　名",null,null,null,"身長","番号","学年",null,"出身中"]
["監　　督",null,"コ－チ",null,"Ａコ－チ",null,"マネ－ジャ－",null,null,"（例）",null,null,null,null,4]
[null,null,null,null,null,null,null,null,null,"盛岡",null,"太郎",null,199,5,2,null,"岩手山"]
["今年の","チーム写真　　　　　　\n◆期日厳守です。\n(各地区ごとにまとめて提出してください）\n\nデジカメの写真等、\n　　この場所に添付する必要はありません\n\n目標の記入も忘れないでください。\n",null,null,null,null,null,null,null,null,null,null,null,null,6]
["目　標",null,null,null,null,null,null,null,null,null,null,null,null,null,7]
["※縦書き",null,null,null,null,null,null,null,null,null,null,null,null,null,8]
[null,null,null,null,null,null,null,null,null,"※余白部分には",null,null,null,null,9]
[null,null,null,null,null,null,null,null,null,"　入れないこと",null,null,null,null,10]
[null,null,null,null,null,null,null,null,null,null,null,null,null,null,11]
[null,null,null,null,null,null,null,null,null,null,null,null,null,null,12]
[null,null,null,null,null,null,null,null,null,"※書式・フォント等",null,null,null,null,13]
[null,null,null,null,null,null,null,null,null,"変更しないこと",null,null,null,null,14]
[null,null,null,null,null,null,null,null,null,null,null,null,null,null,15]
[null,null,null,null,null,null,null,null,null,null,null,null,null,null,16]
[null,null,null,null,null,null,null,null,null,null,null,null,null,null,17]
[null,null,null,null,null,null,null,null,null,null,null,null,null,null,18]
[{"$f":"申込書!L8","v":0},null,null,null,null,"高等学校",null,null,"選　　　　　　　　　　手"]
[null,null,null,null,null,null,null,null,null,"氏　　名",null,null,null,"身長","番号","学年",null,"出身中"]
["監　　督",null,"コ－チ",null,"Ａコ－チ",null,"マネ－ジャ－",null,null,{"$f":"申込書!L14","v":0},null,{"$f":"申込書!T14","v":0},null,{"$f":"申込書!AE14","v":0},{"$f":"申込書!D14","v":0},{"$f":"申込書!AB14","v":0},null,{"$f":"申込書!AR14","v":0}]
[{"$f":"申込書!L9","v":0},{"$f":"申込書!S9","v":0},{"$f":"申込書!AO9","v":0},{"$f":"申込書!AV9","v":0},{"$f":"申込書!L11","v":0},{"$f":"申込書!S11","v":0},{"$f":"申込書!AO11","v":0},{"$f":"申込書!AX11","v":0},null,{"$f":"申込書!L15","v":0},null,{"$f":"申込書!T15","v":0},null,{"$f":"申込書!AE15","v":0},{"$f":"申込書!D15","v":0},{"$f":"申込書!AB15","v":0},null,{"$f":"申込書!AR15","v":0}]
["今年の",null,null,null,null,null,null,null,null,{"$f":"申込書!L16","v":0},null,{"$f":"申込書!T16","v":0},null,{"$f":"申込書!AE16","v":0},{"$f":"申込書!D16","v":0},{"$f":"申込書!AB16","v":0},null,{"$f":"申込書!AR16","v":0}]
["目　標",null,null,null,null,null,null,null,null,{"$f":"申込書!L17","v":0},null,{"$f":"申込書!T17","v":0},null,{"$f":"申込書!AE17","v":0},{"$f":"申込書!D17","v":0},{"$f":"申込書!AB17","v":0},null,{"$f":"申込書!AR17","v":0}]
[{"$f":"申込書!F30","v":0},null,null,null,null,null,null,null,null,{"$f":"申込書!L18","v":0},null,{"$f":"申込書!T18","v":0},null,{"$f":"申込書!AE18","v":0},{"$f":"申込書!D18","v":0},{"$f":"申込書!AB18","v":0},null,{"$f":"申込書!AR18","v":0}]
[null,null,null,null,null,null,null,null,null,{"$f":"申込書!L19","v":0},null,{"$f":"申込書!T19","v":0},null,{"$f":"申込書!AE19","v":0},{"$f":"申込書!D19","v":0},{"$f":"申込書!AB19","v":0},null,{"$f":"申込書!AR19","v":0}]
[null,null,null,null,null,null,null,null,null,{"$f":"申込書!L20","v":0},null,{"$f":"申込書!T20","v":0},null,{"$f":"申込書!AE20","v":0},{"$f":"申込書!D20","v":0},{"$f":"申込書!AB20","v":0},null,{"$f":"申込書!AR20","v":0}]
[null,null,null,null,null,null,null,null,null,{"$f":"申込書!L21","v":0},null,{"$f":"申込書!T21","v":0},null,{"$f":"申込書!AE21","v":0},{"$f":"申込書!D21","v":0},{"$f":"申込書!AB21","v":0},null,{"$f":"申込書!AR21","v":0}]
[null,null,null,null,null,null,null,null,null,{"$f":"申込書!L22","v":0},null,{"$f":"申込書!T22","v":0},null,{"$f":"申込書!AE22","v":0},{"$f":"申込書!D22","v":0},{"$f":"申込書!AB22","v":0},null,{"$f":"申込書!AR22","v":0}]
[null,null,null,null,null,null,null,null,null,{"$f":"申込書!L23","v":0},null,{"$f":"申込書!T23","v":0},null,{"$f":"申込書!AE23","v":0},{"$f":"申込書!D23","v":0},{"$f":"申込書!AB23","v":0},null,{"$f":"申込書!AR23","v":0}]
[null,null,null,null,null,null,null,null,null,{"$f":"申込書!L24","v":0},null,{"$f":"申込書!T24","v":0},null,{"$f":"申込書!AE24","v":0},{"$f":"申込書!D24","v":0},{"$f":"申込書!AB24","v":0},null,{"$f":"申込書!AR24","v":0}]
[null,null,null,null,null,null,null,null,null,{"$f":"申込書!L25","v":0},null,{"$f":"申込書!T25","v":0},null,{"$f":"申込書!AE25","v":0},{"$f":"申込書!D25","v":0},{"$f":"申込書!AB25","v":0},null,{"$f":"申込書!AR25","v":0}]
[null,null,null,null,null,null,null,null,null,{"$f":"申込書!L26","v":0},null,{"$f":"申込書!T26","v":0},null,{"$f":"申込書!AE26","v":0},{"$f":"申込書!D26","v":0},{"$f":"申込書!AB26","v":0},null,{"$f":"申込書!AR26","v":0}]
[null,null,null,null,null,null,null,null,null,{"$f":"申込書!L27","v":0},null,{"$f":"申込書!T27","v":0},null,{"$f":"申込書!AE27","v":0},{"$f":"申込書!D27","v":0},{"$f":"申込書!AB27","v":0},null,{"$f":"申込書!AR27","v":0}]
[null,null,null,null,null,null,null,null,null,{"$f":"申込書!L28","v":0},null,{"$f":"申込書!T28","v":0},null,{"$f":"申込書!AE28","v":0},{"$f":"申込書!D28","v":0},{"$f":"申込書!AB28","v":0},null,{"$f":"申込書!AR28","v":0}]

{"sheet":"ｽｺｱﾃﾞｰﾀ","index":2,"n_rows":26,"n_cols":14,"rows_kept":26,"cut":false,"hidden":false,"merged":[]}
[]
[]
[]
[null,null,null,null,null,null,null,null,null,"↓ｽｺｱﾃﾞｰﾀ（貼付け用）"]
[null,"氏","名",null,"№","L №","氏名","備考",null,"№","L №","氏名",null,"備考"]
[null,{"$f":"IF(申込書!L14=\"\",\"\",申込書!L14)","v":""},{"$f":"IF(申込書!T14=\"\",\"\",申込書!T14)","v":""},1,{"$f":"IF(申込書!D14=\"\",\"\",申込書!D14)","v":""},{"$f":"IF(申込書!G14=\"\",\"\",申込書!G14)","v":""},{"$f":"IF(OR(B6=\"\",C6=\"\"),\"\",B6&\"　\"&C6)","v":""},{"$f":"IF(申込書!AZ14=\"\",\"\",1)","v":""},null,null,null,null,null,""]
[null,{"$f":"IF(申込書!L15=\"\",\"\",申込書!L15)","v":""},{"$f":"IF(申込書!T15=\"\",\"\",申込書!T15)","v":""},2,{"$f":"IF(申込書!D15=\"\",\"\",申込書!D15)","v":""},{"$f":"IF(申込書!G15=\"\",\"\",申込書!G15)","v":""},{"$f":"IF(OR(B7=\"\",C7=\"\"),\"\",B7&\"　\"&C7)","v":""},{"$f":"IF(申込書!AZ15=\"\",\"\",1)","v":""},null,null,null,null,null,""]
[null,{"$f":"IF(申込書!L16=\"\",\"\",申込書!L16)","v":""},{"$f":"IF(申込書!T16=\"\",\"\",申込書!T16)","v":""},3,{"$f":"IF(申込書!D16=\"\",\"\",申込書!D16)","v":""},{"$f":"IF(申込書!G16=\"\",\"\",申込書!G16)","v":""},"",{"$f":"IF(申込書!AZ16=\"\",\"\",1)","v":""},null,null,null,null,null,""]
[null,{"$f":"IF(申込書!L17=\"\",\"\",申込書!L17)","v":""},{"$f":"IF(申込書!T17=\"\",\"\",申込書!T17)","v":""},4,{"$f":"IF(申込書!D17=\"\",\"\",申込書!D17)","v":""},{"$f":"IF(申込書!G17=\"\",\"\",申込書!G17)","v":""},"",{"$f":"IF(申込書!AZ17=\"\",\"\",1)","v":""},null,null,null,null,null,""]
[null,{"$f":"IF(申込書!L18=\"\",\"\",申込書!L18)","v":""},{"$f":"IF(申込書!T18=\"\",\"\",申込書!T18)","v":""},5,{"$f":"IF(申込書!D18=\"\",\"\",申込書!D18)","v":""},{"$f":"IF(申込書!G18=\"\",\"\",申込書!G18)","v":""},"",{"$f":"IF(申込書!AZ18=\"\",\"\",1)","v":""},null,null,null,null,null,""]
[null,{"$f":"IF(申込書!L19=\"\",\"\",申込書!L19)","v":""},{"$f":"IF(申込書!T19=\"\",\"\",申込書!T19)","v":""},6,{"$f":"IF(申込書!D19=\"\",\"\",申込書!D19)","v":""},{"$f":"IF(申込書!G19=\"\",\"\",申込書!G19)","v":""},"",{"$f":"IF(申込書!AZ19=\"\",\"\",1)","v":""},null,null,null,null,null,""]
[null,{"$f":"IF(申込書!L20=\"\",\"\",申込書!L20)","v":""},{"$f":"IF(申込書!T20=\"\",\"\",申込書!T20)","v":""},7,{"$f":"IF(申込書!D20=\"\",\"\",申込書!D20)","v":""},{"$f":"IF(申込書!G20=\"\",\"\",申込書!G20)","v":""},"",{"$f":"IF(申込書!AZ20=\"\",\"\",1)","v":""},null,null,null,null,null,""]
[null,{"$f":"IF(申込書!L21=\"\",\"\",申込書!L21)","v":""},{"$f":"IF(申込書!T21=\"\",\"\",申込書!T21)","v":""},8,{"$f":"IF(申込書!D21=\"\",\"\",申込書!D21)","v":""},{"$f":"IF(申込書!G21=\"\",\"\",申込書!G21)","v":""},"",{"$f":"IF(申込書!AZ21=\"\",\"\",1)","v":""},null,null,null,null,null,""]
[null,{"$f":"IF(申込書!L22=\"\",\"\",申込書!L22)","v":""},{"$f":"IF(申込書!T22=\"\",\"\",申込書!T22)","v":""},9,{"$f":"IF(申込書!D22=\"\",\"\",申込書!D22)","v":""},{"$f":"IF(申込書!G22=\"\",\"\",申込書!G22)","v":""},"",{"$f":"IF(申込書!AZ22=\"\",\"\",1)","v":""},null,null,null,null,null,""]
[null,{"$f":"IF(申込書!L23=\"\",\"\",申込書!L23)","v":""},{"$f":"IF(申込書!T23=\"\",\"\",申込書!T23)","v":""},10,{"$f":"IF(申込書!D23=\"\",\"\",申込書!D23)","v":""},{"$f":"IF(申込書!G23=\"\",\"\",申込書!G23)","v":""},"",{"$f":"IF(申込書!AZ23=\"\",\"\",1)","v":""},null,null,null,null,null,""]
[null,{"$f":"IF(申込書!L24=\"\",\"\",申込書!L24)","v":""},{"$f":"IF(申込書!T24=\"\",\"\",申込書!T24)","v":""},11,{"$f":"IF(申込書!D24=\"\",\"\",申込書!D24)","v":""},{"$f":"IF(申込書!G24=\"\",\"\",申込書!G24)","v":""},"",{"$f":"IF(申込書!AZ24=\"\",\"\",1)","v":""},null,null,null,null,null,""]
[null,{"$f":"IF(申込書!L25=\"\",\"\",申込書!L25)","v":""},{"$f":"IF(申込書!T25=\"\",\"\",申込書!T25)","v":""},12,{"$f":"IF(申込書!D25=\"\",\"\",申込書!D25)","v":""},{"$f":"IF(申込書!G25=\"\",\"\",申込書!G25)","v":""},"",{"$f":"IF(申込書!AZ25=\"\",\"\",1)","v":""},null,null,null,null,null,""]
[null,{"$f":"IF(申込書!L26=\"\",\"\",申込書!L26)","v":""},{"$f":"IF(申込書!T26=\"\",\"\",申込書!T26)","v":""},13,{"$f":"IF(申込書!D26=\"\",\"\",申込書!D26)","v":""},{"$f":"IF(申込書!G26=\"\",\"\",申込書!G26)","v":""},"",{"$f":"IF(申込書!AZ26=\"\",\"\",1)","v":""},null,null,null,null,null,""]
[null,{"$f":"IF(申込書!L27=\"\",\"\",申込書!L27)","v":""},{"$f":"IF(申込書!T27=\"\",\"\",申込書!T27)","v":""},14,{"$f":"IF(申込書!D27=\"\",\"\",申込書!D27)","v":""},{"$f":"IF(申込書!G27=\"\",\"\",申込書!G27)","v":""},"",{"$f":"IF(申込書!AZ27=\"\",\"\",1)","v":""},null,null,null,null,null,""]
[null,{"$f":"IF(申込書!L28=\"\",\"\",申込書!L28)","v":""},{"$f":"IF(申込書!T28=\"\",\"\",申込書!T28)","v":""},15,{"$f":"IF(申込書!D28=\"\",\"\",申込書!D28)","v":""},{"$f":"IF(申込書!G28=\"\",\"\",申込書!G28)","v":""},"",{"$f":"IF(申込書!AZ28=\"\",\"\",1)","v":""},null,null,null,null,null,""]
[null,null,null,16,{"$f":"IF(申込書!D29=\"\",\"\",申込書!D29)","v":""},{"$f":"IF(申込書!G29=\"\",\"\",申込書!G29)","v":""},{"$f":"IF(OR(B21=\"\",C21=\"\"),\"\",B21&\"　\"&C21)","v":""},{"$f":"IF(申込書!AZ29=\"\",\"\",1)","v":""},null,null,null,null,null,""]
[null,null,null,17,{"$f":"IF(申込書!D30=\"\",\"\",申込書!D30)","v":""},{"$f":"IF(申込書!G30=\"\",\"\",申込書!G30)","v":""},"",{"$f":"IF(申込書!AZ30=\"\",\"\",1)","v":""},null,null,null,null,null,""]
[null,null,null,18,{"$f":"IF(申込書!D31=\"\",\"\",申込書!D31)","v":""},{"$f":"IF(申込書!G31=\"\",\"\",申込書!G31)","v":""},"",{"$f":"IF(申込書!AZ31=\"\",\"\",1)","v":""},null,null,null,null,null,""]
[1,{"$f":"VLOOKUP(A24,申込書!$BM$10:$CE$12,8,FALSE)","v":""},{"$f":"VLOOKUP(A24,申込書!$BM$10:$CE$12,12,FALSE)","v":""},"HC",null,{"$f":"VLOOKUP(A24,申込書!$BM$10:$CE$12,16,FALSE)","v":""},{"$f":"IF(OR(B24=\"\",C24=\"\"),\"\",B24&\"　\"&C24)","v":""},{"$f":"IF(申込書!AZ32=\"\",\"\",1)","v":""},null,null,null,null,null,""]
[2,{"$f":"VLOOKUP(A25,申込書!$BM$10:$CE$12,8,FALSE)","v":""},{"$f":"VLOOKUP(A25,申込書!$BM$10:$CE$12,12,FALSE)","v":""},"AC",null,{"$f":"VLOOKUP(A25,申込書!$BM$10:$CE$12,16,FALSE)","v":""},"",{"$f":"IF(申込書!AZ33=\"\",\"\",1)","v":""},null,null,null,null,null,""]
[null,null,null,null,{"$f":"IF(申込書!D34=\"\",\"\",申込書!D34)","v":""},{"$f":"IF(申込書!G34=\"\",\"\",申込書!G34)","v":""},"",{"$f":"IF(申込書!AZ34=\"\",\"\",1)","v":""}]